BEGIN:VCALENDAR
VERSION:2.0
PRODID:-//Contratero//ES
CALSCALE:GREGORIAN
METHOD:PUBLISH
BEGIN:VEVENT
UID:CONTR 2021/11225@contratero.es
DTSTAMP:20260423T201648Z
DTSTART:20210813T235959
DTEND:20210814T005959
SUMMARY:Cierre: Elaboración de la Cuenta Satélite de Emisiones a l
DESCRIPTION:Elaboración de la Cuenta Satélite de Emisiones a la Atmósfera de las Islas Baleares.\\n\\nOrganismo: Instituto de Estadística de las Illes Balears\\n\\nVer en Contratero: https://contratero.es/contracts/CONTR 2021/11225
URL:https://contratero.es/contracts/CONTR 2021/11225
STATUS:CONFIRMED
BEGIN:VALARM
TRIGGER:-P1D
ACTION:DISPLAY
DESCRIPTION:Recordatorio: Elaboración de la Cuenta Satél
END:VALARM
END:VEVENT
END:VCALENDAR